BEGIN:VCALENDAR
VERSION:2.0
PRODID:-//Area riservata modulistica soci - ECPv6.15.20//NONSGML v1.0//EN
CALSCALE:GREGORIAN
METHOD:PUBLISH
X-WR-CALNAME:Area riservata modulistica soci
X-ORIGINAL-URL:https://modulisticasoci.benow.show
X-WR-CALDESC:Eventi per Area riservata modulistica soci
REFRESH-INTERVAL;VALUE=DURATION:PT1H
X-Robots-Tag:noindex
X-PUBLISHED-TTL:PT1H
BEGIN:VTIMEZONE
TZID:UTC
BEGIN:STANDARD
TZOFFSETFROM:+0000
TZOFFSETTO:+0000
TZNAME:UTC
DTSTART:20220101T000000
END:STANDARD
END:VTIMEZONE
BEGIN:VEVENT
DTSTART;TZID=UTC:20240416T103000
DTEND;TZID=UTC:20240416T183000
DTSTAMP:20260421T155523
CREATED:20240221T133926Z
LAST-MODIFIED:20240221T133926Z
UID:1265-1713263400-1713292200@modulisticasoci.benow.show
SUMMARY:Visite Mediche
DESCRIPTION:VISITE MEDICHE \n\nMARTEDI’ 16 Aprile  Orario dalle ore 13.30:00 alle ore 18:30\n\nLe visite mediche si svolgeranno presso gli uffici BeNow s.c.p.a. in Viale Italia n.26 a Brescia (Bs): \nPrenota al più presto il tuo appuntamento per la Visita Medica scrivendo a sicurezza@benow.show \nRicordiamo che le visite possono anche e sempre essere svolte in qualsiasi momento presso lo studio medico del nostro Medico Competente\, la dott.ssa Greta Boccasavia – Studio Eurolife\, a Castelvetro Piacentino (Pc) prendendo appuntamento direttamente con il medico al numero 0523.823335 e informando il nostro ufficio all’indirizzo email: sicurezza@benow.show
URL:https://modulisticasoci.benow.show/calendario/visite-mediche-7/
LOCATION:BeNow s.c.p.a.\, viale italia\, 26\, Brescia\, bs\, 25126\, Italia
CATEGORIES:Visite Mediche
ATTACH;FMTTYPE=image/png:https://modulisticasoci.benow.show/wp-content/uploads/2024/02/visite-mediche-2.png
END:VEVENT
BEGIN:VEVENT
DTSTART;TZID=UTC:20240205T140000
DTEND;TZID=UTC:20240205T180000
DTSTAMP:20260421T155523
CREATED:20240116T161421Z
LAST-MODIFIED:20240116T161713Z
UID:1202-1707141600-1707156000@modulisticasoci.benow.show
SUMMARY:VISITE MEDICHE
DESCRIPTION:VISITE MEDICHE \n\nLUNEDI’ 5 FEBBRAIO  Orario dalle ore 14:00 alle ore 18:00\n\nLe visite mediche si svolgeranno presso gli uffici BeNow s.c.p.a. in Viale Italia n.26 a Brescia (Bs): \nPrenota al più presto il tuo appuntamento per la Visita Medica scrivendo a sicurezza@benow.show \nRicordiamo che le visite possono anche e sempre essere svolte in qualsiasi momento presso lo studio medico del nostro Medico Competente\, la dott.ssa Greta Boccasavia – Studio Eurolife\, a Castelvetro Piacentino (Pc) prendendo appuntamento direttamente con il medico al numero 0523.823335 e informando il nostro ufficio all’indirizzo email: sicurezza@benow.show
URL:https://modulisticasoci.benow.show/calendario/visite-mediche-6/
LOCATION:BeNow s.c.p.a.\, viale italia\, 26\, Brescia\, bs\, 25126\, Italia
CATEGORIES:Visite Mediche
ATTACH;FMTTYPE=image/jpeg:https://modulisticasoci.benow.show/wp-content/uploads/2023/04/photo_5904578570636868758_w.jpg
END:VEVENT
BEGIN:VEVENT
DTSTART;TZID=UTC:20231212T130000
DTEND;TZID=UTC:20231212T183000
DTSTAMP:20260421T155523
CREATED:20231127T142413Z
LAST-MODIFIED:20231127T142413Z
UID:1155-1702386000-1702405800@modulisticasoci.benow.show
SUMMARY:Visite Mediche
DESCRIPTION:VISITE MEDICHE \n\nMARTEDI’ 12 DICEMBRE  Orario dalle ore 13.30:00 alle ore 18:30\n\nLe visite mediche si svolgeranno presso gli uffici BeNow s.c.p.a. in Viale Italia n.26 a Brescia (Bs): \nPrenota al più presto il tuo appuntamento per la Visita Medica scrivendo a sicurezza@benow.show \nRicordiamo che le visite possono anche e sempre essere svolte in qualsiasi momento presso lo studio medico del nostro Medico Competente\, la dott.ssa Greta Boccasavia – Studio Eurolife\, a Castelvetro Piacentino (Pc) prendendo appuntamento direttamente con il medico al numero 0523.823335 e informando il nostro ufficio all’indirizzo email: sicurezza@benow.show
URL:https://modulisticasoci.benow.show/calendario/visite-mediche-5/
LOCATION:BeNow s.c.p.a.\, viale italia\, 26\, Brescia\, bs\, 25126\, Italia
CATEGORIES:Visite Mediche
ATTACH;FMTTYPE=image/jpeg:https://modulisticasoci.benow.show/wp-content/uploads/2023/04/photo_5904578570636868758_w.jpg
END:VEVENT
BEGIN:VEVENT
DTSTART;TZID=UTC:20231016T140000
DTEND;TZID=UTC:20231016T180000
DTSTAMP:20260421T155523
CREATED:20230808T082004Z
LAST-MODIFIED:20230912T110123Z
UID:1093-1697464800-1697479200@modulisticasoci.benow.show
SUMMARY:Visite mediche
DESCRIPTION:VISITE MEDICHE \n\nLUNEDÍ 16 OTTOBRE dalle ore 14.00 alle ore 18.00.\n\nPer chi\, non avendo potuto partecipare alle ultime sessioni\, avesse l’esigenza di svolgere la visita medica nelle prossime settimane ricordiamo che le visite potranno essere svolte presso lo studio medico del nostro Medico Competente: Dott.ssa Greta Boccasavia – Studio Eurolife\, a Castelvetro Piacentino (Pc) prendendo appuntamento direttamente con il medico al numero 0523.823335 e informando il nostro ufficio all’indirizzo email: sicurezza@benow.show RLS – Luigi Delpanno
URL:https://modulisticasoci.benow.show/calendario/visite-mediche-4/
LOCATION:BeNow s.c.p.a.\, viale italia\, 26\, Brescia\, bs\, 25126\, Italia
CATEGORIES:Visite Mediche
ATTACH;FMTTYPE=image/jpeg:https://modulisticasoci.benow.show/wp-content/uploads/2023/04/photo_5904578570636868758_w.jpg
END:VEVENT
BEGIN:VEVENT
DTSTART;TZID=UTC:20230918T140000
DTEND;TZID=UTC:20230918T180000
DTSTAMP:20260421T155523
CREATED:20230808T081747Z
LAST-MODIFIED:20230808T081940Z
UID:1090-1695045600-1695060000@modulisticasoci.benow.show
SUMMARY:Visite mediche
DESCRIPTION:VISITE MEDICHE \n\nLUNEDÍ 18 SETTEMBRE dalle ore 14.00 alle ore 18.00.\n\nPer chi\, non avendo potuto partecipare alle ultime sessioni\, avesse l’esigenza di svolgere la visita medica nelle prossime settimane ricordiamo che le visite potranno essere svolte presso lo studio medico del nostro Medico Competente: Dott.ssa Greta Boccasavia – Studio Eurolife\, a Castelvetro Piacentino (Pc) prendendo appuntamento direttamente con il medico al numero 0523.823335 e informando il nostro ufficio all’indirizzo email: sicurezza@benow.show RLS – Luigi Delpanno
URL:https://modulisticasoci.benow.show/calendario/visite-mediche-2-copy-copy-2-copy/
LOCATION:BeNow s.c.p.a.\, viale italia\, 26\, Brescia\, bs\, 25126\, Italia
CATEGORIES:Visite Mediche
ATTACH;FMTTYPE=image/jpeg:https://modulisticasoci.benow.show/wp-content/uploads/2023/04/photo_5904578570636868758_w.jpg
END:VEVENT
BEGIN:VEVENT
DTSTART;TZID=UTC:20230717T140000
DTEND;TZID=UTC:20230717T180000
DTSTAMP:20260421T155523
CREATED:20230519T112059Z
LAST-MODIFIED:20230519T112256Z
UID:1026-1689602400-1689616800@modulisticasoci.benow.show
SUMMARY:Visite mediche
DESCRIPTION:VISITE MEDICHE \n\nLUNEDI’ 17 LUGLIO: Orario dalle ore 14:00 alle ore 18:00\n\nLe visite mediche si svolgeranno presso gli uffici BeNow s.c.p.a. in Viale Italia n.26 a Brescia (Bs): \nPrenota al più presto il tuo appuntamento per la Visita Medica scrivendo a sicurezza@benow.show \nRicordiamo che le visite possono anche e sempre essere svolte in qualsiasi momento presso lo studio medico del nostro Medico Competente\, la dott.ssa Greta Boccasavia – Studio Eurolife\, a Castelvetro Piacentino (Pc) prendendo appuntamento direttamente con il medico al numero 0523.823335 e informando il nostro ufficio all’indirizzo email: sicurezza@benow.show
URL:https://modulisticasoci.benow.show/calendario/visite-mediche-2-copy-copy-2/
LOCATION:BeNow s.c.p.a.\, viale italia\, 26\, Brescia\, bs\, 25126\, Italia
CATEGORIES:Visite Mediche
ATTACH;FMTTYPE=image/jpeg:https://modulisticasoci.benow.show/wp-content/uploads/2023/04/photo_5904578570636868758_w.jpg
END:VEVENT
BEGIN:VEVENT
DTSTART;TZID=UTC:20230619T133000
DTEND;TZID=UTC:20230619T183000
DTSTAMP:20260421T155523
CREATED:20230519T112057Z
LAST-MODIFIED:20230606T085606Z
UID:1025-1687181400-1687199400@modulisticasoci.benow.show
SUMMARY:Visite mediche
DESCRIPTION:VISITE MEDICHE \n\nLUNEDI’ 19 GIUGNO: Orario dalle ore 13.30:00 alle ore 18:30\n\nLe visite mediche si svolgeranno presso gli uffici BeNow s.c.p.a. in Viale Italia n.26 a Brescia (Bs): \nPrenota al più presto il tuo appuntamento per la Visita Medica scrivendo a sicurezza@benow.show \nRicordiamo che le visite possono anche e sempre essere svolte in qualsiasi momento presso lo studio medico del nostro Medico Competente\, la dott.ssa Greta Boccasavia – Studio Eurolife\, a Castelvetro Piacentino (Pc) prendendo appuntamento direttamente con il medico al numero 0523.823335 e informando il nostro ufficio all’indirizzo email: sicurezza@benow.show
URL:https://modulisticasoci.benow.show/calendario/visite-mediche-3/
LOCATION:BeNow s.c.p.a.\, viale italia\, 26\, Brescia\, bs\, 25126\, Italia
CATEGORIES:Visite Mediche
ATTACH;FMTTYPE=image/jpeg:https://modulisticasoci.benow.show/wp-content/uploads/2023/04/photo_5904578570636868758_w.jpg
END:VEVENT
BEGIN:VEVENT
DTSTART;TZID=UTC:20230522T140000
DTEND;TZID=UTC:20230522T180000
DTSTAMP:20260421T155523
CREATED:20230418T124142Z
LAST-MODIFIED:20230421T122920Z
UID:1002-1684764000-1684778400@modulisticasoci.benow.show
SUMMARY:Visite mediche
DESCRIPTION:VISITE MEDICHE \n\nLUNEDI’ 22 MAGGIO: Orario dalle ore 14:00 alle ore 18:00\n\nLe visite mediche si svolgeranno presso gli uffici BeNow s.c.p.a. in Viale Italia n.26 a Brescia (Bs): \nPrenota al più presto il tuo appuntamento per la Visita Medica scrivendo a sicurezza@benow.show \nRicordiamo che le visite possono anche e sempre essere svolte in qualsiasi momento presso lo studio medico del nostro Medico Competente\, la dott.ssa Greta Boccasavia – Studio Eurolife\, a Castelvetro Piacentino (Pc) prendendo appuntamento direttamente con il medico al numero 0523.823335 e informando il nostro ufficio all’indirizzo email: sicurezza@benow.show
URL:https://modulisticasoci.benow.show/calendario/visite-mediche-2-copy/
LOCATION:BeNow s.c.p.a.\, viale italia\, 26\, Brescia\, bs\, 25126\, Italia
CATEGORIES:Visite Mediche
ATTACH;FMTTYPE=image/jpeg:https://modulisticasoci.benow.show/wp-content/uploads/2023/04/photo_5904578570636868758_w.jpg
END:VEVENT
BEGIN:VEVENT
DTSTART;TZID=UTC:20230417T140000
DTEND;TZID=UTC:20230417T180000
DTSTAMP:20260421T155523
CREATED:20230126T173449Z
LAST-MODIFIED:20230306T143826Z
UID:839-1681740000-1681754400@modulisticasoci.benow.show
SUMMARY:Visite mediche
DESCRIPTION:VISITE MEDICHE \n\nLUNEDI’ 17 APRILE:: Orario dalle ore 14:00 alle ore 18:00\n\nLe visite mediche si svolgeranno presso gli uffici BeNow s.c.p.a. in Viale Italia n.26 a Brescia (Bs): \nPrenota al più presto il tuo appuntamento per la Visita Medica scrivendo a sicurezza@benow.show \nRicordiamo che le visite possono anche e sempre essere svolte in qualsiasi momento presso lo studio medico del nostro Medico Competente\, la dott.ssa Greta Boccasavia – Studio Eurolife\, a Castelvetro Piacentino (Pc) prendendo appuntamento direttamente con il medico al numero 0523.823335 e informando il nostro ufficio all’indirizzo email: sicurezza@benow.show
URL:https://modulisticasoci.benow.show/calendario/visite-mediche-2/
LOCATION:BeNow s.c.p.a.\, viale italia\, 26\, Brescia\, bs\, 25126\, Italia
CATEGORIES:Visite Mediche
ATTACH;FMTTYPE=image/png:https://modulisticasoci.benow.show/wp-content/uploads/2023/01/visite-mediche.png
END:VEVENT
BEGIN:VEVENT
DTSTART;TZID=UTC:20230227T140000
DTEND;TZID=UTC:20230227T180000
DTSTAMP:20260421T155523
CREATED:20230117T155457Z
LAST-MODIFIED:20230117T155540Z
UID:824-1677506400-1677520800@modulisticasoci.benow.show
SUMMARY:Visite mediche
DESCRIPTION:VISITE MEDICHE \n– LUNEDÍ 27 FEBBRAIO: Orario dalle ore 14:00 alle ore 18:00 \nLe visite mediche si svolgeranno presso gli uffici BeNow s.c.p.a. in Viale Italia n.26 a Brescia (Bs): \nPrenota al più presto il tuo appuntamento per la Visita Medica scrivendo a sicurezza@benow.show \nRicordiamo che le visite possono anche e sempre essere svolte in qualsiasi momento presso lo studio medico del nostro Medico Competente\, la dott.ssa Greta Boccasavia – Studio Eurolife\, a Castelvetro Piacentino (Pc) prendendo appuntamento direttamente con il medico al numero 0523.823335 e informando il nostro ufficio all’indirizzo email: sicurezza@benow.show
URL:https://modulisticasoci.benow.show/calendario/visite-mediche/
LOCATION:BeNow s.c.p.a.\, viale italia\, 26\, Brescia\, bs\, 25126\, Italia
CATEGORIES:Visite Mediche
ATTACH;FMTTYPE=image/png:https://modulisticasoci.benow.show/wp-content/uploads/2023/01/visite-mediche.png
END:VEVENT
END:VCALENDAR