BEGIN:VCALENDAR
VERSION:2.0
PRODID:-//Area riservata modulistica soci - ECPv6.15.20//NONSGML v1.0//EN
CALSCALE:GREGORIAN
METHOD:PUBLISH
X-ORIGINAL-URL:https://modulisticasoci.benow.show
X-WR-CALDESC:Eventi per Area riservata modulistica soci
REFRESH-INTERVAL;VALUE=DURATION:PT1H
X-Robots-Tag:noindex
X-PUBLISHED-TTL:PT1H
BEGIN:VTIMEZONE
TZID:UTC
BEGIN:STANDARD
TZOFFSETFROM:+0000
TZOFFSETTO:+0000
TZNAME:UTC
DTSTART:20220101T000000
END:STANDARD
END:VTIMEZONE
BEGIN:VEVENT
DTSTART;TZID=UTC:20240201T080000
DTEND;TZID=UTC:20240201T170000
DTSTAMP:20260421T155545
CREATED:20240116T161613Z
LAST-MODIFIED:20240116T161613Z
UID:1205-1706774400-1706806800@modulisticasoci.benow.show
SUMMARY:CORSO BASE SICUREZZA + AGGIORNAMENTO CORSO BASE SICUREZZA
DESCRIPTION:CORSO BASE SICUREZZA \nGIOVEDÍ 1 FEBBRAIO \n⏳ Orario 11:00-20:00 con pausa pranzo \nAGGIORNAMENTO CORSO BASE SICUREZZA \nGIOVEDÍ 1 FEBBRAIO \n⏳ Orario 14:00 – 20:00 \nIl Corso Base Sicurezza e l’Aggiornamento Corso Base Sicurezza si svolgeranno presso gli uffici BeNow s.c.p.a. in Viale Italia n.26 a Brescia (Bs). \nPrenota al più presto il tuo appuntamento scrivendo a sicurezza@benow.show
URL:https://modulisticasoci.benow.show/calendario/corso-base-sicurezza-aggiornamento-corso-base-sicurezza-2/
LOCATION:BeNow s.c.p.a.\, viale italia\, 26\, Brescia\, bs\, 25126\, Italia
CATEGORIES:Corsi sicurezza
ATTACH;FMTTYPE=image/gif:https://modulisticasoci.benow.show/wp-content/uploads/2023/08/cover-newsletter.gif
END:VEVENT
BEGIN:VEVENT
DTSTART;TZID=UTC:20231212T110000
DTEND;TZID=UTC:20231212T200000
DTSTAMP:20260421T155545
CREATED:20231127T141742Z
LAST-MODIFIED:20231127T142056Z
UID:1152-1702378800-1702411200@modulisticasoci.benow.show
SUMMARY:Corso base sicurezza e Aggiornamento corso base
DESCRIPTION:CORSO BASE SICUREZZA \nMARTEDÍ 12 DICEMBRE \n⏳ Orario 11:00-20:00 con pausa pranzo \nAGGIORNAMENTO CORSO BASE SICUREZZA \nMARTEDÍ 12 DICEMBRE \n⏳ Orario 14:00 – 20:00 \nIl Corso Base Sicurezza e l’Aggiornamento Corso Base Sicurezza si svolgeranno presso gli uffici BeNow s.c.p.a. in Viale Italia n.26 a Brescia (Bs). \nPrenota al più presto il tuo appuntamento scrivendo a sicurezza@benow.show
URL:https://modulisticasoci.benow.show/calendario/corso-base-sicurezza-e-aggiornamento-corso-base/
LOCATION:BeNow s.c.p.a.\, viale italia\, 26\, Brescia\, bs\, 25126\, Italia
CATEGORIES:Corsi Organizzati in sede,Corsi sicurezza
ATTACH;FMTTYPE=image/png:https://modulisticasoci.benow.show/wp-content/uploads/2023/11/fceaab41-cff4-463b-a92b-f7f425791fee.png
END:VEVENT
BEGIN:VEVENT
DTSTART;TZID=UTC:20230918T110000
DTEND;TZID=UTC:20230918T200000
DTSTAMP:20260421T155545
CREATED:20230829T121343Z
LAST-MODIFIED:20230829T122043Z
UID:1095-1695034800-1695067200@modulisticasoci.benow.show
SUMMARY:Corso Base Sicurezza + Aggiornamento Corso Base Sicurezza
DESCRIPTION:CORSO BASE SICUREZZA  \n– LUNEDI’ 18 SETTEMBRE: Orario 11:00 – 20:00 con pausa pranzo \nAGGIORNAMENTO CORSO BASE SICUREZZA \n– LUNEDI’ 18 SETTEMBRE: Orario 14:00 – 20:00 \nIl Corso Base Sicurezza e l’aggiornamento Corso Base Sicurezza si svolgeranno presso gli uffici BeNow scpa  in Viale Italia n.26 a Brescia (Bs): \nPrenota al più presto il tuo appuntamento scrivendo a sicurezza@benow.show 
URL:https://modulisticasoci.benow.show/calendario/corso-base-sicurezza-aggiornamento-corso-base-sicurezza-copy-2-copy-copy-copy-copy-2/
LOCATION:BeNow s.c.p.a.\, viale italia\, 26\, Brescia\, bs\, 25126\, Italia
CATEGORIES:Corsi sicurezza
ATTACH;FMTTYPE=image/png:https://modulisticasoci.benow.show/wp-content/uploads/2023/01/sicurezza-cappelino.png
END:VEVENT
BEGIN:VEVENT
DTSTART;TZID=UTC:20230717T110000
DTEND;TZID=UTC:20230717T200000
DTSTAMP:20260421T155545
CREATED:20230523T131120Z
LAST-MODIFIED:20230523T131318Z
UID:1034-1689591600-1689624000@modulisticasoci.benow.show
SUMMARY:Corso Base Sicurezza + Aggiornamento Corso Base Sicurezza
DESCRIPTION:CORSO BASE SICUREZZA  \n– LUNEDI’ 17 LUGLIO: Orario 11:00 – 20:00 con pausa pranzo \nAGGIORNAMENTO CORSO BASE SICUREZZA \n– LUNEDI’ 17 LUGLIO: Orario 14:00 – 20:00 \nIl Corso Base Sicurezza e l’aggiornamento Corso Base Sicurezza si svolgeranno presso gli uffici BeNow scpa  in Viale Italia n.26 a Brescia (Bs): \nPrenota al più presto il tuo appuntamento scrivendo a sicurezza@benow.show 
URL:https://modulisticasoci.benow.show/calendario/corso-base-sicurezza-aggiornamento-corso-base-sicurezza-copy-2-copy-copy-copy/
LOCATION:BeNow s.c.p.a.\, viale italia\, 26\, Brescia\, bs\, 25126\, Italia
CATEGORIES:Corsi sicurezza
ATTACH;FMTTYPE=image/png:https://modulisticasoci.benow.show/wp-content/uploads/2023/01/sicurezza-cappelino.png
END:VEVENT
BEGIN:VEVENT
DTSTART;TZID=UTC:20230619T110000
DTEND;TZID=UTC:20230619T200000
DTSTAMP:20260421T155545
CREATED:20230523T131124Z
LAST-MODIFIED:20230523T131217Z
UID:1035-1687172400-1687204800@modulisticasoci.benow.show
SUMMARY:Corso Base Sicurezza + Aggiornamento Corso Base Sicurezza
DESCRIPTION:CORSO BASE SICUREZZA  \n– LUNEDI’ 19 GIUGNO:  Orario 11:00 – 20:00 con pausa pranzo \nAGGIORNAMENTO CORSO BASE SICUREZZA \n– LUNEDI’ 19 GIUGNO:  Orario 14:00 – 20:00 \nIl Corso Base Sicurezza e l’aggiornamento Corso Base Sicurezza si svolgeranno presso gli uffici BeNow scpa  in Viale Italia n.26 a Brescia (Bs): \nPrenota al più presto il tuo appuntamento scrivendo a sicurezza@benow.show 
URL:https://modulisticasoci.benow.show/calendario/corso-base-sicurezza-aggiornamento-corso-base-sicurezza-copy-2-copy-copy-copy-copy/
LOCATION:BeNow s.c.p.a.\, viale italia\, 26\, Brescia\, bs\, 25126\, Italia
CATEGORIES:Corsi sicurezza
ATTACH;FMTTYPE=image/png:https://modulisticasoci.benow.show/wp-content/uploads/2023/01/sicurezza-cappelino.png
END:VEVENT
BEGIN:VEVENT
DTSTART;TZID=UTC:20230522T110000
DTEND;TZID=UTC:20230522T200000
DTSTAMP:20260421T155545
CREATED:20230421T122250Z
LAST-MODIFIED:20230421T122354Z
UID:1005-1684753200-1684785600@modulisticasoci.benow.show
SUMMARY:Corso Base Sicurezza + Aggiornamento Corso Base Sicurezza
DESCRIPTION:CORSO BASE SICUREZZA  \n– GIOVEDI’ 13 APRILE:  Orario 11:00 – 20:00 con pausa pranzo \nAGGIORNAMENTO CORSO BASE SICUREZZA \n– GIOVEDI’ 13 APRILE:   Orario 14:00 – 20:00 \nIl Corso Base Sicurezza e l’aggiornamento Corso Base Sicurezza si svolgeranno presso gli uffici BeNow scpa  in Viale Italia n.26 a Brescia (Bs): \nPrenota al più presto il tuo appuntamento scrivendo a sicurezza@benow.show 
URL:https://modulisticasoci.benow.show/calendario/corso-base-sicurezza-aggiornamento-corso-base-sicurezza-copy-2-copy-copy/
LOCATION:BeNow s.c.p.a.\, viale italia\, 26\, Brescia\, bs\, 25126\, Italia
CATEGORIES:Corsi sicurezza
ATTACH;FMTTYPE=image/png:https://modulisticasoci.benow.show/wp-content/uploads/2023/01/sicurezza-cappelino.png
END:VEVENT
BEGIN:VEVENT
DTSTART;TZID=UTC:20230417T110000
DTEND;TZID=UTC:20230417T200000
DTSTAMP:20260421T155545
CREATED:20230126T173242Z
LAST-MODIFIED:20230306T143832Z
UID:837-1681729200-1681761600@modulisticasoci.benow.show
SUMMARY:Corso Primo Soccorso + Aggiornamento Primo Soccorso
DESCRIPTION:Corso Primo Soccorso + Aggiornamento Primo Soccorso \n– LUNEDI’ 17 APRILE:  Orario 14:00 – 18:00 \nIl Corso Primo Soccorso + Aggiornamento Primo Soccorso si svolgeranno presso gli uffici BeNow scpa  in Viale Italia n.26 a Brescia (Bs): \nPrenota al più presto il tuo appuntamento scrivendo a sicurezza@benow.show 
URL:https://modulisticasoci.benow.show/calendario/corso-base-sicurezza-aggiornamento-corso-base-sicurezza-copy/
LOCATION:BeNow s.c.p.a.\, viale italia\, 26\, Brescia\, bs\, 25126\, Italia
CATEGORIES:Corsi sicurezza
ATTACH;FMTTYPE=image/png:https://modulisticasoci.benow.show/wp-content/uploads/2023/01/primo-soccorso-1.png
END:VEVENT
BEGIN:VEVENT
DTSTART;TZID=UTC:20230414T083000
DTEND;TZID=UTC:20230414T153000
DTSTAMP:20260421T155545
CREATED:20230306T151454Z
LAST-MODIFIED:20230306T151518Z
UID:929-1681461000-1681486200@modulisticasoci.benow.show
SUMMARY:Corso Completo PLE - Assopadana 2a parte
DESCRIPTION:CORSO COMPLETO PLE di 10 ORE su due giorni: \nGiovedì 6 Aprile oraro 8:30-12:30 e \nVenerdì 14 Aprile orario 8:30-15:30 con pausa pranzo \nIl corso si svolgerà presso ASSOPADANA \n  \nAGGIORNAMENTO CORSO PLE di 4 ORE: Giovedì 6 Aprile oraro 8:30-12:30
URL:https://modulisticasoci.benow.show/calendario/corso-preposto-e-aggiornamento-preposto-copy-copy/
LOCATION:Assopadana\, Via Lecco 5\, Brescia\, Brescia\, 25126\, Italia
CATEGORIES:Corsi sicurezza
ATTACH;FMTTYPE=image/png:https://modulisticasoci.benow.show/wp-content/uploads/2023/03/PLE-1.png
END:VEVENT
BEGIN:VEVENT
DTSTART;TZID=UTC:20230413T110000
DTEND;TZID=UTC:20230413T200000
DTSTAMP:20260421T155545
CREATED:20230306T090307Z
LAST-MODIFIED:20230306T150831Z
UID:899-1681383600-1681416000@modulisticasoci.benow.show
SUMMARY:Corso Base Sicurezza + Aggiornamento Corso Base Sicurezza
DESCRIPTION:CORSO BASE SICUREZZA  \n– GIOVEDI’ 13 APRILE:  Orario 11:00 – 20:00 con pausa pranzo \nAGGIORNAMENTO CORSO BASE SICUREZZA \n– GIOVEDI’ 13 APRILE:   Orario 14:00 – 20:00 \nIl Corso Base Sicurezza e l’aggiornamento Corso Base Sicurezza si svolgeranno presso gli uffici BeNow scpa  in Viale Italia n.26 a Brescia (Bs): \nPrenota al più presto il tuo appuntamento scrivendo a sicurezza@benow.show 
URL:https://modulisticasoci.benow.show/calendario/corso-base-sicurezza-aggiornamento-corso-base-sicurezza-copy-2-copy/
LOCATION:BeNow s.c.p.a.\, viale italia\, 26\, Brescia\, bs\, 25126\, Italia
CATEGORIES:Corsi sicurezza
ATTACH;FMTTYPE=image/png:https://modulisticasoci.benow.show/wp-content/uploads/2023/01/sicurezza-cappelino.png
END:VEVENT
BEGIN:VEVENT
DTSTART;TZID=UTC:20230406T083000
DTEND;TZID=UTC:20230406T123000
DTSTAMP:20260421T155545
CREATED:20230306T150805Z
LAST-MODIFIED:20230306T151447Z
UID:924-1680769800-1680784200@modulisticasoci.benow.show
SUMMARY:Corso Completo PLE - Assopadana 1a parte
DESCRIPTION:CORSO COMPLETO PLE di 10 ORE su due giorni: \nGiovedì 6 Aprile oraro 8:30-12:30 e \nVenerdì 14 Aprile orario 8:30-15:30 con pausa pranzo \nIl corso si svolgerà presso ASSOPADANA \n  \nAGGIORNAMENTO CORSO PLE di 4 ORE: Giovedì 6 Aprile oraro 8:30-12:30
URL:https://modulisticasoci.benow.show/calendario/corso-preposto-e-aggiornamento-preposto-copy/
LOCATION:Assopadana\, Via Lecco 5\, Brescia\, Brescia\, 25126\, Italia
CATEGORIES:Corsi sicurezza
ATTACH;FMTTYPE=image/png:https://modulisticasoci.benow.show/wp-content/uploads/2023/03/PLE-1.png
END:VEVENT
BEGIN:VEVENT
DTSTART;TZID=UTC:20230330T080000
DTEND;TZID=UTC:20230330T180000
DTSTAMP:20260421T155545
CREATED:20230125T101037Z
LAST-MODIFIED:20230306T143836Z
UID:834-1680163200-1680199200@modulisticasoci.benow.show
SUMMARY:Corso Preposto e Aggiornamento Preposto.
DESCRIPTION:Corso Preposto e Aggiornamento Preposto. \n– GIOVEDÍ 30 MARZO: Orario dalle ore 9:00 alle ore 18:00 con pausa pranzo. \n  \nIl CORSO PREPOSTO è INDISPENSABILE a: \n– TUTTI i Tecnici \n– I Capi-Band\, Capi-Squadra\, Capi-Gruppo\, ecc. \n– Gli Organizzatori di Eventi\, Manager\, Promoter e Coordinatori \n  \nIl corso si svolgerà presso gli uffici BeNow s.c.p.a. in Viale Italia n.26 a Brescia (Bs) ed è gratuito per tutti i soci BeNow s.c.p.a. \nPrenota al più presto la tua partecipazione scrivendo a sicurezza@benow.show \n  \nIl corso sarà tenuto dal Geom. Massimo Faggiotto\, autorevole esperto di sicurezza nel settore spettacolo e intrattenimento. \n  \nPer info e chiarimenti è possibile contattare il nostro Vicepresidente e RLS Luigi Delpanno al 3450599644. \nA seguito dell’entrata in vigore della nuova normativa di fine 2021\, l’obbligo di Aggiornamento dei PREPOSTI è passato alla scadenza di 2 anni.
URL:https://modulisticasoci.benow.show/calendario/corso-preposto-e-aggiornamento-preposto/
LOCATION:BeNow s.c.p.a.\, viale italia\, 26\, Brescia\, bs\, 25126\, Italia
CATEGORIES:Corsi sicurezza
ATTACH;FMTTYPE=image/png:https://modulisticasoci.benow.show/wp-content/uploads/2023/01/preposto30-marzo.png
END:VEVENT
BEGIN:VEVENT
DTSTART;TZID=UTC:20230227T110000
DTEND;TZID=UTC:20230227T200000
DTSTAMP:20260421T155545
CREATED:20230117T155750Z
LAST-MODIFIED:20230306T143906Z
UID:829-1677495600-1677528000@modulisticasoci.benow.show
SUMMARY:Corso Base Sicurezza + Aggiornamento Corso Base Sicurezza
DESCRIPTION:CORSO BASE SICUREZZA  \n– LUNEDI’ 27 FEBBRAIO:  Orario 11:00 – 20:00 con pausa pranzo \nAGGIORNAMENTO CORSO BASE SICUREZZA \n– LUNEDI’ 27 FEBBRAIO:  Orario 14:00 – 20:00 \nIl Corso Base Sicurezza e l’aggiornamento Corso Base Sicurezza si svolgeranno presso gli uffici BeNow scpa  in Viale Italia n.26 a Brescia (Bs): \nPrenota al più presto il tuo appuntamento scrivendo a sicurezza@benow.show 
URL:https://modulisticasoci.benow.show/calendario/corso-base-sicurezza-aggiornamento-corso-base-sicurezza/
LOCATION:BeNow s.c.p.a.\, viale italia\, 26\, Brescia\, bs\, 25126\, Italia
CATEGORIES:Corsi sicurezza
ATTACH;FMTTYPE=image/png:https://modulisticasoci.benow.show/wp-content/uploads/2023/01/sicurezza-cappelino.png
END:VEVENT
END:VCALENDAR