BEGIN:VCALENDAR
VERSION:2.0
PRODID:-//Area riservata modulistica soci - ECPv6.15.20//NONSGML v1.0//EN
CALSCALE:GREGORIAN
METHOD:PUBLISH
X-ORIGINAL-URL:https://modulisticasoci.benow.show
X-WR-CALDESC:Eventi per Area riservata modulistica soci
REFRESH-INTERVAL;VALUE=DURATION:PT1H
X-Robots-Tag:noindex
X-PUBLISHED-TTL:PT1H
BEGIN:VTIMEZONE
TZID:UTC
BEGIN:STANDARD
TZOFFSETFROM:+0000
TZOFFSETTO:+0000
TZNAME:UTC
DTSTART:20230101T000000
END:STANDARD
END:VTIMEZONE
BEGIN:VEVENT
DTSTART;TZID=UTC:20240306T090000
DTEND;TZID=UTC:20240306T180000
DTSTAMP:20260421T161750
CREATED:20240123T151249Z
LAST-MODIFIED:20240123T151444Z
UID:1219-1709715600-1709748000@modulisticasoci.benow.show
SUMMARY:Il Corso Antincendio Livello 2 Rischio Medio
DESCRIPTION:– MATERDì 6 MARZO \norario 09:00-18:00 ( con pausa pranzo ) \nIl Corso Antincendio Livello 2 Rischio Medio si terrà presso PI.ESSE a TRENZANO (Bs). \nPrenota al più presto la tua partecipazione scrivendo a sicurezza@benow.show
URL:https://modulisticasoci.benow.show/calendario/il-corso-antincendio-livello-2-rischio-medio/
LOCATION:PI.esse\, Via Trento 26\, Trenzano\, 25030\, Italia
CATEGORIES:Corsi presso PI.esse
ATTACH;FMTTYPE=image/png:https://modulisticasoci.benow.show/wp-content/uploads/2023/11/1-novembre.png
END:VEVENT
END:VCALENDAR