BEGIN:VCALENDAR
VERSION:2.0
PRODID:-//Area riservata modulistica soci - ECPv6.15.20//NONSGML v1.0//EN
CALSCALE:GREGORIAN
METHOD:PUBLISH
X-ORIGINAL-URL:https://modulisticasoci.benow.show
X-WR-CALDESC:Eventi per Area riservata modulistica soci
REFRESH-INTERVAL;VALUE=DURATION:PT1H
X-Robots-Tag:noindex
X-PUBLISHED-TTL:PT1H
BEGIN:VTIMEZONE
TZID:UTC
BEGIN:STANDARD
TZOFFSETFROM:+0000
TZOFFSETTO:+0000
TZNAME:UTC
DTSTART:20220101T000000
END:STANDARD
END:VTIMEZONE
BEGIN:VEVENT
DTSTART;TZID=UTC:20240315T083000
DTEND;TZID=UTC:20240315T173000
DTSTAMP:20260421T160029
CREATED:20240221T133120Z
LAST-MODIFIED:20240221T133120Z
UID:1262-1710491400-1710523800@modulisticasoci.benow.show
SUMMARY:CORSO LAVORI IN QUOTA e DPI ANTICADUTA 3°CAT.:
DESCRIPTION:CORSO LAVORI IN QUOTA e DPI ANTICADUTA 3°CAT.: \n-Venerdì 15 Marzo: presso Assopadana a Brescia (Bs). \nCORSO COMPLETO ⏳Orario 8:30-17:30 con pausa pranzo \nCORSO di AGGIORNAMENTO ⏳Orario 13:30-17:30 \nPer iscrizione prenota al più presto il tuo posto scrivendo a sicurezza@benow.show
URL:https://modulisticasoci.benow.show/calendario/corso-lavori-in-quota-e-dpi-anticaduta-3cat-3/
LOCATION:Assopadana\, Via Lecco 5\, Brescia\, Brescia\, 25126\, Italia
CATEGORIES:Corsi presso ASSOPADANA
ATTACH;FMTTYPE=image/png:https://modulisticasoci.benow.show/wp-content/uploads/2024/02/lavori-in-quota.png
END:VEVENT
BEGIN:VEVENT
DTSTART;TZID=UTC:20240314T083000
DTEND;TZID=UTC:20240314T173000
DTSTAMP:20260421T160029
CREATED:20240123T151836Z
LAST-MODIFIED:20240205T152552Z
UID:1227-1710405000-1710437400@modulisticasoci.benow.show
SUMMARY:Corso Trabattelli e Scale
DESCRIPTION:MERCOLEDÍ 14 MARZO \nCORSO TRABATTELLI E SCALE orario 08:30-17:30 ( con pausa pranzo ) \nDocente del corso: Paolo Fusi Il corso trabatteli e scale a si terrà presso ASSOPADANA in Via Lecco\, 5 a Brescia (Bs). \nPrenota al più presto la tua partecipazione scrivendo a sicurezza@benow.show
URL:https://modulisticasoci.benow.show/calendario/corso-trabattelli-e-scale-2/
LOCATION:Assopadana\, Via Lecco 5\, Brescia\, Brescia\, 25126\, Italia
CATEGORIES:Corsi presso ASSOPADANA
ATTACH;FMTTYPE=image/jpeg:https://modulisticasoci.benow.show/wp-content/uploads/2023/03/photo_5783109061485640725_w.jpg
END:VEVENT
BEGIN:VEVENT
DTSTART;TZID=UTC:20240130T083000
DTEND;TZID=UTC:20240130T173000
DTSTAMP:20260421T160029
CREATED:20240116T160541Z
LAST-MODIFIED:20240116T160541Z
UID:1192-1706603400-1706635800@modulisticasoci.benow.show
SUMMARY:CORSO LAVORI IN QUOTA e DPI ANTICADUTA 3°CAT.:
DESCRIPTION:CORSO LAVORI IN QUOTA e DPI ANTICADUTA 3°CAT.: \n-Giovedì 30 gennaio: presso Assopadana a Brescia (Bs). \nCORSO COMPLETO ⏳Orario 8:30-17:30 con pausa pranzo \nCORSO di AGGIORNAMENTO ⏳Orario 13:30-17:30 \nPer iscrizione prenota al più presto il tuo posto scrivendo a sicurezza@benow.show
URL:https://modulisticasoci.benow.show/calendario/corso-lavori-in-quota-e-dpi-anticaduta-3cat-2/
LOCATION:Assopadana\, Via Lecco 5\, Brescia\, Brescia\, 25126\, Italia
CATEGORIES:Corsi presso ASSOPADANA
ATTACH;FMTTYPE=image/png:https://modulisticasoci.benow.show/wp-content/uploads/2023/09/cover-newsletter.png
END:VEVENT
BEGIN:VEVENT
DTSTART;TZID=UTC:20231218T083000
DTEND;TZID=UTC:20231218T123000
DTSTAMP:20260421T160029
CREATED:20231129T163245Z
LAST-MODIFIED:20231129T163245Z
UID:1172-1702888200-1702902600@modulisticasoci.benow.show
SUMMARY:CORSO ADDETTI ANTINCENDIO LIVELLO 2 (RISCHIO MEDIO) in due sessioni:  2a sessione
DESCRIPTION:➡️CORSO ADDETTI ANTINCENDIO LIVELLO 2 (RISCHIO MEDIO) in due sessioni: \n– Lunedì 18 Dicembre ⏳Orario 8:30-12:30 presso Assopadana a Brescia (Bs). \nPer iscrizione prenota al più presto il tuo posto scrivendo a sicurezza@benow.show
URL:https://modulisticasoci.benow.show/calendario/corso-addetti-antincendio-livello-2-rischio-medio-in-due-sessioni-2a-sessione/
LOCATION:Assopadana\, Via Lecco 5\, Brescia\, Brescia\, 25126\, Italia
CATEGORIES:Corsi presso ASSOPADANA
ATTACH;FMTTYPE=image/png:https://modulisticasoci.benow.show/wp-content/uploads/2023/11/1-novembre.png
END:VEVENT
BEGIN:VEVENT
DTSTART;TZID=UTC:20231211T083000
DTEND;TZID=UTC:20231211T123000
DTSTAMP:20260421T160029
CREATED:20231129T163120Z
LAST-MODIFIED:20231129T163120Z
UID:1169-1702283400-1702297800@modulisticasoci.benow.show
SUMMARY:CORSO ADDETTI ANTINCENDIO LIVELLO 2 (RISCHIO MEDIO) in due sessioni: 1a sessione
DESCRIPTION:➡️CORSO ADDETTI ANTINCENDIO LIVELLO 2 (RISCHIO MEDIO) in due sessioni: \nCORSO COMPLETO in due sessioni: – Lunedì 11 DICEMBRE ⏳Orario 8:30-12:30 presso Assopadana a Brescia (Bs). \nPer iscrizione prenota al più presto il tuo posto scrivendo a sicurezza@benow.show
URL:https://modulisticasoci.benow.show/calendario/corso-addetti-antincendio-livello-2-rischio-medio-in-due-sessioni-1a-sessione/
LOCATION:Assopadana\, Via Lecco 5\, Brescia\, Brescia\, 25126\, Italia
CATEGORIES:Corsi presso ASSOPADANA
END:VEVENT
BEGIN:VEVENT
DTSTART;TZID=UTC:20231207T083000
DTEND;TZID=UTC:20231207T173000
DTSTAMP:20260421T160029
CREATED:20231129T164937Z
LAST-MODIFIED:20231129T164937Z
UID:1182-1701937800-1701970200@modulisticasoci.benow.show
SUMMARY:CORSO LAVORI IN QUOTA e DPI ANTICADUTA 3°CAT.:
DESCRIPTION:CORSO LAVORI IN QUOTA e DPI ANTICADUTA 3°CAT.: \n-Giovedì 07 Dicembre: presso Assopadana a Brescia (Bs). \nCORSO COMPLETO ⏳Orario 8:30-17:30 con pausa pranzo \nCORSO di AGGIORNAMENTO ⏳Orario 13:30-17:30 \nPer iscrizione prenota al più presto il tuo posto scrivendo a sicurezza@benow.show \n 
URL:https://modulisticasoci.benow.show/calendario/corso-lavori-in-quota-e-dpi-anticaduta-3cat/
LOCATION:Assopadana\, Via Lecco 5\, Brescia\, Brescia\, 25126\, Italia
CATEGORIES:Corsi presso ASSOPADANA
END:VEVENT
BEGIN:VEVENT
DTSTART;TZID=UTC:20230929T083000
DTEND;TZID=UTC:20230929T173000
DTSTAMP:20260421T160029
CREATED:20230915T142553Z
LAST-MODIFIED:20230915T143003Z
UID:1141-1695976200-1696008600@modulisticasoci.benow.show
SUMMARY:👉CORSO LAVORI IN QUOTA e DPI ANTICADUTA 3°CAT
DESCRIPTION:👉CORSO LAVORI IN QUOTA e DPI ANTICADUTA 3°CAT.: \n– Venerdì 29 Settembre presso Assopadana a Brescia (Bs). \nCORSO COMPLETO Orario 8:30-17:30 con pausa pranzo \nCORSO di AGGIORNAMENTO Orario 13:30-17:30 \nPer iscrizione prenota al più presto il tuo posto scrivendo a sicurezza@benow.show
URL:https://modulisticasoci.benow.show/calendario/%f0%9f%91%89corso-lavori-in-quota-e-dpi-anticaduta-3cat/
LOCATION:Assopadana\, Via Lecco 5\, Brescia\, Brescia\, 25126\, Italia
CATEGORIES:Corsi presso ASSOPADANA
ATTACH;FMTTYPE=image/png:https://modulisticasoci.benow.show/wp-content/uploads/2023/09/cover-newsletter.png
END:VEVENT
BEGIN:VEVENT
DTSTART;TZID=UTC:20230724T083000
DTEND;TZID=UTC:20230724T123000
DTSTAMP:20260421T160029
CREATED:20230601T092551Z
LAST-MODIFIED:20230601T092622Z
UID:1065-1690187400-1690201800@modulisticasoci.benow.show
SUMMARY:CORSO ANTINCENDIO RISCHIO MEDIO completo 2a parte
DESCRIPTION:– LUNEDÍ 24 LUGLIO: Orario 8.30-12.30 in presenza presso ASSOPADANA a Brescia (Bs) \nPrenota al più presto la tua partecipazione scrivendo a sicurezza@benow.show
URL:https://modulisticasoci.benow.show/calendario/corso-lavori-in-quota-e-aggiornamento-corso-lavori-in-quota-copy-copy-copy-copy-copy/
LOCATION:Assopadana\, Via Lecco 5\, Brescia\, Brescia\, 25126\, Italia
CATEGORIES:Corsi presso ASSOPADANA
ATTACH;FMTTYPE=image/png:https://modulisticasoci.benow.show/wp-content/uploads/2023/03/antincendio2.png
END:VEVENT
BEGIN:VEVENT
DTSTART;TZID=UTC:20230717T083000
DTEND;TZID=UTC:20230717T123000
DTSTAMP:20260421T160029
CREATED:20230601T092437Z
LAST-MODIFIED:20230601T092637Z
UID:1063-1689582600-1689597000@modulisticasoci.benow.show
SUMMARY:CORSO ANTINCENDIO RISCHIO MEDIO completo 1a parte
DESCRIPTION:– LUNEDÍ 17 LUGLIO : Orario 8.30-12.30 in presenza presso ASSOPADANA a Brescia (Bs) \nPrenota al più presto la tua partecipazione scrivendo a sicurezza@benow.show
URL:https://modulisticasoci.benow.show/calendario/corso-lavori-in-quota-e-aggiornamento-corso-lavori-in-quota-copy-copy-copy-copy/
LOCATION:Assopadana\, Via Lecco 5\, Brescia\, Brescia\, 25126\, Italia
CATEGORIES:Corsi presso ASSOPADANA
ATTACH;FMTTYPE=image/png:https://modulisticasoci.benow.show/wp-content/uploads/2023/03/antincendio2.png
END:VEVENT
BEGIN:VEVENT
DTSTART;TZID=UTC:20230626T083000
DTEND;TZID=UTC:20230626T133000
DTSTAMP:20260421T160029
CREATED:20230601T092301Z
LAST-MODIFIED:20230601T092357Z
UID:1061-1687768200-1687786200@modulisticasoci.benow.show
SUMMARY:CORSO AGGIORNAMENTO ANTINCENDIO
DESCRIPTION:– LUNEDÍ 26 GIUGNO: Orario 8.30-13.30 in presenza presso ASSOPADANA a Brescia (Bs) \nPrenota al più presto la tua partecipazione scrivendo a sicurezza@benow.show
URL:https://modulisticasoci.benow.show/calendario/corso-lavori-in-quota-e-aggiornamento-corso-lavori-in-quota-copy-copy-copy/
LOCATION:Assopadana\, Via Lecco 5\, Brescia\, Brescia\, 25126\, Italia
CATEGORIES:Corsi presso ASSOPADANA
ATTACH;FMTTYPE=image/png:https://modulisticasoci.benow.show/wp-content/uploads/2023/03/antincendio2.png
END:VEVENT
BEGIN:VEVENT
DTSTART;TZID=UTC:20230516T083000
DTEND;TZID=UTC:20230516T173000
DTSTAMP:20260421T160029
CREATED:20230314T155755Z
LAST-MODIFIED:20230407T110543Z
UID:961-1684225800-1684258200@modulisticasoci.benow.show
SUMMARY:Corso Trabattelli e Scale
DESCRIPTION:MARTEDÍ 16 MAGGIO CORSO FINANZIATO E DUNQUE\, GRATUITO PER I SOCI BeNow s.c.p.a. \nCORSO TRABATTELLI E SCALE orario 08:30-17:30 ( con pausa pranzo ) \nDocente del corso: Paolo Fusi Il corso trabatteli e scale a si terrà presso ASSOPADANA in Via Lecco\, 5 a Brescia (Bs). \nPrenota al più presto la tua partecipazione scrivendo a sicurezza@benow.show
URL:https://modulisticasoci.benow.show/calendario/corso-lavori-in-quota-e-aggiornamento-corso-lavori-in-quota-copy-copy-2/
LOCATION:Assopadana\, Via Lecco 5\, Brescia\, Brescia\, 25126\, Italia
CATEGORIES:Corsi presso ASSOPADANA
ATTACH;FMTTYPE=image/jpeg:https://modulisticasoci.benow.show/wp-content/uploads/2023/03/photo_5783109061485640725_w.jpg
END:VEVENT
BEGIN:VEVENT
DTSTART;TZID=UTC:20230419T080000
DTEND;TZID=UTC:20230419T173000
DTSTAMP:20260421T160029
CREATED:20230307T131318Z
LAST-MODIFIED:20230307T131716Z
UID:941-1681891200-1681925400@modulisticasoci.benow.show
SUMMARY:Corso Lavori in Quota e Aggiornamento Corso Lavori in Quota
DESCRIPTION:Corso Lavori in Quota e Aggiornamento Corso Lavori in Quota \nIl corso sarà tenuto da Paolo Fusi \n-MARCOLEDÍ 19 APRILE \nCORSO LAVORI IN QUOTA COMPLETO orario 08:30-17:30 ( con pausa pranzo ) \nAGGIORNAMENTO CORSO LAVORI IN QUOTA orario 13:30 – 17.30 \nI corsi lavori in quota si terranno presso ASSOPADANA in Via Lecco\, 5 a Brescia (Bs). \nPrenota al più presto la tua partecipazione scrivendo a sicurezza@benow.show
URL:https://modulisticasoci.benow.show/calendario/corso-lavori-in-quota-e-aggiornamento-corso-lavori-in-quota-copy/
LOCATION:Assopadana\, Via Lecco 5\, Brescia\, Brescia\, 25126\, Italia
CATEGORIES:Corsi presso ASSOPADANA
ATTACH;FMTTYPE=image/png:https://modulisticasoci.benow.show/wp-content/uploads/2023/03/Antincendio-1.png
END:VEVENT
BEGIN:VEVENT
DTSTART;TZID=UTC:20230406T083000
DTEND;TZID=UTC:20230406T173000
DTSTAMP:20260421T160029
CREATED:20230308T081448Z
LAST-MODIFIED:20230314T155635Z
UID:945-1680769800-1680802200@modulisticasoci.benow.show
SUMMARY:Il Corso Antincendio Livello 2 Rischio Medio
DESCRIPTION:– GIOVEDì 6 APRILE \norario 08:30-17:30 ( con pausa pranzo ) \nIl Corso Antincendio Livello 2 Rischio Medio si terrà presso ASSOPADANA in Via Lecco\, 5 a Brescia (Bs). \nPrenota al più presto la tua partecipazione scrivendo a sicurezza@benow.show
URL:https://modulisticasoci.benow.show/calendario/corso-lavori-in-quota-e-aggiornamento-corso-lavori-in-quota-copy-copy/
LOCATION:Assopadana\, Via Lecco 5\, Brescia\, Brescia\, 25126\, Italia
CATEGORIES:Corsi presso ASSOPADANA
ATTACH;FMTTYPE=image/png:https://modulisticasoci.benow.show/wp-content/uploads/2023/03/antincendio2.png
END:VEVENT
BEGIN:VEVENT
DTSTART;TZID=UTC:20230317T083000
DTEND;TZID=UTC:20230317T173000
DTSTAMP:20260421T160029
CREATED:20230306T143730Z
LAST-MODIFIED:20230315T123837Z
UID:901-1679041800-1679074200@modulisticasoci.benow.show
SUMMARY:Corso Lavori in Quota e Aggiornamento Corso Lavori in Quota
DESCRIPTION:Corso Lavori in Quota e Aggiornamento Corso Lavori in Quota \n-VENDERÍ 17 MARZO \nCORSO LAVORI IN QUOTA COMPLETO orario 08:30-17:30 ( con pausa pranzo ) \nAGGIORNAMENTO CORSO LAVORI IN QUOTA orario 13:30 – 17.30 \nI corsi lavori in quota si terranno presso ASSOPADANA in Via Lecco\, 5 a Brescia (Bs). \nPrenota al più presto la tua partecipazione scrivendo a sicurezza@benow.show
URL:https://modulisticasoci.benow.show/calendario/corso-lavori-in-quota-e-aggiornamento-corso-lavori-in-quota/
LOCATION:Assopadana\, Via Lecco 5\, Brescia\, Brescia\, 25126\, Italia
CATEGORIES:Corsi presso ASSOPADANA
ATTACH;FMTTYPE=image/png:https://modulisticasoci.benow.show/wp-content/uploads/2023/03/Antincendio-1.png
END:VEVENT
END:VCALENDAR