BEGIN:VCALENDAR
VERSION:2.0
PRODID:-//Area riservata modulistica soci - ECPv6.15.20//NONSGML v1.0//EN
CALSCALE:GREGORIAN
METHOD:PUBLISH
X-WR-CALNAME:Area riservata modulistica soci
X-ORIGINAL-URL:https://modulisticasoci.benow.show
X-WR-CALDESC:Eventi per Area riservata modulistica soci
REFRESH-INTERVAL;VALUE=DURATION:PT1H
X-Robots-Tag:noindex
X-PUBLISHED-TTL:PT1H
BEGIN:VTIMEZONE
TZID:UTC
BEGIN:STANDARD
TZOFFSETFROM:+0000
TZOFFSETTO:+0000
TZNAME:UTC
DTSTART:20220101T000000
END:STANDARD
END:VTIMEZONE
BEGIN:VEVENT
DTSTART;TZID=UTC:20231121T090000
DTEND;TZID=UTC:20231121T170000
DTSTAMP:20260421T174251
CREATED:20231018T151602Z
LAST-MODIFIED:20231018T151758Z
UID:1145-1700557200-1700586000@modulisticasoci.benow.show
SUMMARY:Corso Trabattelli e Scale
DESCRIPTION:corso FINANZIATO – GRATUITO PER I SOCI BeNow s.c.p.a❗❗❗ MARTEDÍ 21 NOVEMBRE \n⏳Orario 09:00-18:00 (con pausa pranzo) \n👨‍🏫Docente del corso: Paolo Fusi \n➡️Il corso trabatteli e scale si terrà presso ASSOPADANA in Via Lecco\, 5 a Brescia (Bs). \n📩 Prenota al più presto la tua partecipazione scrivendo a sicurezza@benow.show
URL:https://modulisticasoci.benow.show/calendario/corso-trabattelli-e-scale/
LOCATION:Assopadana\, Via Lecco 5\, Brescia\, Brescia\, 25126\, Italia
CATEGORIES:Corsi finanziati
ATTACH;FMTTYPE=image/jpeg:https://modulisticasoci.benow.show/wp-content/uploads/2023/03/photo_5783109061485640725_w.jpg
END:VEVENT
BEGIN:VEVENT
DTSTART;TZID=UTC:20230405T090000
DTEND;TZID=UTC:20230405T150000
DTSTAMP:20260421T174251
CREATED:20230306T153136Z
LAST-MODIFIED:20230306T153321Z
UID:939-1680685200-1680706800@modulisticasoci.benow.show
SUMMARY:Corso Canva BASE
DESCRIPTION:Corso Canva BASE – GRATIS PER I SOCI \nFinalmente si torna in presenza a fare i corsi! \nLa prima opportunità per i soci è questo corso INTERAMENTE FINANZIATO \nDURATA: 1 lezione da 5 ore\nQUANDO: 5 aprile 2023\nORARIO: 9.00 – 15.00\nDOVE: Viale Italia\, 26 • Brescia \n“La grafica si impara meglio ‘smanettando’ insieme\no guardando dal vivo un Canva Creator che ti spieghi\nil modo giusto per lavorare!”\nDa qui l’idea del PRIMO CORSO IN PRESENZA in CANVA. \nCanva Styling: dalla A alla #\nTeoria / Template / Social / Esercitazioni \n10 posti disponibili!  \nIl corso essendo finanziato deve essere svolto da un numero minimo di partecipanti. \nPer info e iscrizioni eventi@benow.show \nScadenza iscrizioni: 10 marzo 2023
URL:https://modulisticasoci.benow.show/calendario/corso-canva-avanzato-1-appuntamento-copy-2/
LOCATION:BeNow s.c.p.a.\, viale italia\, 26\, Brescia\, bs\, 25126\, Italia
CATEGORIES:Corsi finanziati
ATTACH;FMTTYPE=image/png:https://modulisticasoci.benow.show/wp-content/uploads/2023/03/27.png
END:VEVENT
BEGIN:VEVENT
DTSTART;TZID=UTC:20230329T090000
DTEND;TZID=UTC:20230329T130000
DTSTAMP:20260421T174251
CREATED:20230306T152438Z
LAST-MODIFIED:20230306T153108Z
UID:935-1680080400-1680094800@modulisticasoci.benow.show
SUMMARY:Corso Canva AVANZATO - 2° appuntamento
DESCRIPTION:Corso Canva AVANZATO – GRATIS PER I SOCI \nFinalmente si torna in presenza a fare i corsi! \nLa prima opportunità per i soci è questo corso INTERAMENTE FINANZIATO \nDURATA: 2 lezioni da 4 ore\nQUANDO: 22-29 marzo 2023\nORARIO: 9.00 – 13.00\nDOVE: Viale Italia\, 26 • Brescia \n“La grafica si impara meglio ‘smanettando’ insieme\no guardando dal vivo un Canva Creator che ti spieghi\nil modo giusto per lavorare!”\nDa qui l’idea del PRIMO CORSO IN PRESENZA in CANVA. \nCanva Styling: dalla A alla #\nTeoria / Template / Social / Esercitazioni \n10 posti disponibili!  \nIl corso essendo finanziato deve essere svolto da un numero minimo di partecipanti. \nPer info e iscrizioni eventi@benow.show \nScadenza iscrizioni: 10 marzo 2023
URL:https://modulisticasoci.benow.show/calendario/corso-canva-avanzato-1-appuntamento-copy/
LOCATION:BeNow s.c.p.a.\, viale italia\, 26\, Brescia\, bs\, 25126\, Italia
CATEGORIES:Corsi finanziati
ATTACH;FMTTYPE=image/png:https://modulisticasoci.benow.show/wp-content/uploads/2023/03/26.png
END:VEVENT
BEGIN:VEVENT
DTSTART;TZID=UTC:20230322T090000
DTEND;TZID=UTC:20230322T130000
DTSTAMP:20260421T174251
CREATED:20230306T152427Z
LAST-MODIFIED:20230306T153025Z
UID:931-1679475600-1679490000@modulisticasoci.benow.show
SUMMARY:Corso Canva AVANZATO - 1° appuntamento
DESCRIPTION:Corso Canva AVANZATO – GRATIS PER I SOCI \nFinalmente si torna in presenza a fare i corsi! \nLa prima opportunità per i soci è questo corso INTERAMENTE FINANZIATO \nDURATA: 2 lezioni da 4 ore\nQUANDO: 22-29 marzo 2023\nORARIO: 9.00 – 13.00\nDOVE: Viale Italia\, 26 • Brescia \n“La grafica si impara meglio ‘smanettando’ insieme\no guardando dal vivo un Canva Creator che ti spieghi\nil modo giusto per lavorare!”\nDa qui l’idea del PRIMO CORSO IN PRESENZA in CANVA. \nCanva Styling: dalla A alla #\nTeoria / Template / Social / Esercitazioni \n10 posti disponibili!  \nIl corso essendo finanziato deve essere svolto da un numero minimo di partecipanti. \nPer info e iscrizioni eventi@benow.show \nScadenza iscrizioni: 10 marzo 2023
URL:https://modulisticasoci.benow.show/calendario/corso-canva-avanzato-1-appuntamento/
LOCATION:BeNow s.c.p.a.\, viale italia\, 26\, Brescia\, bs\, 25126\, Italia
CATEGORIES:Corsi finanziati
ATTACH;FMTTYPE=image/png:https://modulisticasoci.benow.show/wp-content/uploads/2023/03/26.png
END:VEVENT
END:VCALENDAR